BEGIN:VCALENDAR
VERSION:2.0
PRODID:-//WeShareEvents - ECPv6.15.20//NONSGML v1.0//EN
CALSCALE:GREGORIAN
METHOD:PUBLISH
X-WR-CALNAME:WeShareEvents
X-ORIGINAL-URL:https://weshareevents.com
X-WR-CALDESC:Events for WeShareEvents
REFRESH-INTERVAL;VALUE=DURATION:PT1H
X-Robots-Tag:noindex
X-PUBLISHED-TTL:PT1H
BEGIN:VTIMEZONE
TZID:Africa/Windhoek
BEGIN:STANDARD
TZOFFSETFROM:+0200
TZOFFSETTO:+0200
TZNAME:CAT
DTSTART:20250101T000000
END:STANDARD
END:VTIMEZONE
BEGIN:VEVENT
DTSTART;TZID=Africa/Windhoek:20260417T000000
DTEND;TZID=Africa/Windhoek:20260418T235959
DTSTAMP:20260420T110433
CREATED:20260407T101846Z
LAST-MODIFIED:20260407T101849Z
UID:19401-1776384000-1776556799@weshareevents.com
SUMMARY:NG Kerk Pionierspark hou Basaar
DESCRIPTION:17 & 18 April 2026 Windhoek \n\n\n\nVrydag\, 17 AprilKom geniet saam met ons ’n lekker spitskaap-ete — dis daai kuier waar jy nie wil huis toe gaan nie. \n\n\n\nSaterdag\, 18 AprilBasaar + vleisverkope — ’n dag vol lag\, gesels\, goeie kos en mense wat soos familie voel � \n\n\n\nEn soos met enige mooi gemeenskapsding… bou ons dit saam. \n\n\n\nOns het nog ’n paar hande (en harte) nodig:• Skaap• Wildsvleis• Wit olifant items (daai goed wat nog mooi is\, maar net nie meer plek in jou huis het nie) \n\n\n\nAs jy iets kan bydra — groot of klein — dit maak regtig ’n verskil.Kom kuier. Kom eet. Kom wees deel. \n\n\n\nEn as jy kan help… ons sal dit met oop arms ontvang
URL:https://weshareevents.com/event/ng-kerk-pionierspark-hou-basaar/
LOCATION:NG Kerk Pionierspark\, Corner of Von Falkenhausen and Redeker\, Windhoek\, Khomas\, Namibia
CATEGORIES:🍔 Food & Beverage,🛐 Spirituality
ATTACH;FMTTYPE=image/png:https://weshareevents.com/wp-content/uploads/2026/04/Screenshot-2026-04-07-113052.png
END:VEVENT
END:VCALENDAR